BEGIN:VCALENDAR
VERSION:2.0
PRODID:-//My Blog - ECPv6.15.14//NONSGML v1.0//EN
CALSCALE:GREGORIAN
METHOD:PUBLISH
X-ORIGINAL-URL:https://woodturnersofthevirginias.org
X-WR-CALDESC:Events for My Blog
REFRESH-INTERVAL;VALUE=DURATION:PT1H
X-Robots-Tag:noindex
X-PUBLISHED-TTL:PT1H
BEGIN:VTIMEZONE
TZID:UTC
BEGIN:STANDARD
TZOFFSETFROM:+0000
TZOFFSETTO:+0000
TZNAME:UTC
DTSTART:20230101T000000
END:STANDARD
END:VTIMEZONE
BEGIN:VEVENT
DTSTART;TZID=UTC:20240420T080000
DTEND;TZID=UTC:20240420T170000
DTSTAMP:20260425T193244
CREATED:20240305T133555Z
LAST-MODIFIED:20240305T133555Z
UID:4875-1713600000-1713632400@woodturnersofthevirginias.org
SUMMARY:Skill Session - Turn a Platter
DESCRIPTION:Hands on skill session to learn how to turn a platter
URL:https://woodturnersofthevirginias.org/event/skill-session-turn-a-platter/
LOCATION:Phoenix Shop\, 5904 Main St\, Mt. Jackson\, VA\, 22842\, United States
END:VEVENT
END:VCALENDAR