BEGIN:VCALENDAR
VERSION:2.0
PRODID:-//My Blog - ECPv6.15.14//NONSGML v1.0//EN
CALSCALE:GREGORIAN
METHOD:PUBLISH
X-ORIGINAL-URL:https://woodturnersofthevirginias.org
X-WR-CALDESC:Events for My Blog
REFRESH-INTERVAL;VALUE=DURATION:PT1H
X-Robots-Tag:noindex
X-PUBLISHED-TTL:PT1H
BEGIN:VTIMEZONE
TZID:UTC
BEGIN:STANDARD
TZOFFSETFROM:+0000
TZOFFSETTO:+0000
TZNAME:UTC
DTSTART:20230101T000000
END:STANDARD
END:VTIMEZONE
BEGIN:VEVENT
DTSTART;TZID=UTC:20240504T100000
DTEND;TZID=UTC:20240504T140000
DTSTAMP:20260425T195500
CREATED:20240305T134051Z
LAST-MODIFIED:20240305T134051Z
UID:4877-1714816800-1714831200@woodturnersofthevirginias.org
SUMMARY:WoVA Picnic
DESCRIPTION:The annual club picnic at Mt. Jackson Park
URL:https://woodturnersofthevirginias.org/event/wova-picnic/
LOCATION:Mt Jackson Park\, Mt Jackson\, VA\, United States
END:VEVENT
END:VCALENDAR