BEGIN:VCALENDAR
VERSION:2.0
PRODID:-//My Blog - ECPv6.15.14//NONSGML v1.0//EN
CALSCALE:GREGORIAN
METHOD:PUBLISH
X-ORIGINAL-URL:https://woodturnersofthevirginias.org
X-WR-CALDESC:Events for My Blog
REFRESH-INTERVAL;VALUE=DURATION:PT1H
X-Robots-Tag:noindex
X-PUBLISHED-TTL:PT1H
BEGIN:VTIMEZONE
TZID:America/New_York
BEGIN:DAYLIGHT
TZOFFSETFROM:-0500
TZOFFSETTO:-0400
TZNAME:EDT
DTSTART:20230312T070000
END:DAYLIGHT
BEGIN:STANDARD
TZOFFSETFROM:-0400
TZOFFSETTO:-0500
TZNAME:EST
DTSTART:20231105T060000
END:STANDARD
BEGIN:DAYLIGHT
TZOFFSETFROM:-0500
TZOFFSETTO:-0400
TZNAME:EDT
DTSTART:20240310T070000
END:DAYLIGHT
BEGIN:STANDARD
TZOFFSETFROM:-0400
TZOFFSETTO:-0500
TZNAME:EST
DTSTART:20241103T060000
END:STANDARD
BEGIN:DAYLIGHT
TZOFFSETFROM:-0500
TZOFFSETTO:-0400
TZNAME:EDT
DTSTART:20250309T070000
END:DAYLIGHT
BEGIN:STANDARD
TZOFFSETFROM:-0400
TZOFFSETTO:-0500
TZNAME:EST
DTSTART:20251102T060000
END:STANDARD
END:VTIMEZONE
BEGIN:VTIMEZONE
TZID:UTC
BEGIN:STANDARD
TZOFFSETFROM:+0000
TZOFFSETTO:+0000
TZNAME:UTC
DTSTART:20230101T000000
END:STANDARD
END:VTIMEZONE
BEGIN:VEVENT
DTSTART;TZID=America/New_York:20240106T090000
DTEND;TZID=America/New_York:20240106T120000
DTSTAMP:20260425T162714
CREATED:20231223T202326Z
LAST-MODIFIED:20231223T203112Z
UID:4772-1704531600-1704542400@woodturnersofthevirginias.org
SUMMARY:WoVA January Meeting
DESCRIPTION:Peter Shoemaker will give a presentation on turning a weed pot.  This simple spindle turning will give you the skills to create all types of spindle designs.
URL:https://woodturnersofthevirginias.org/event/wova-january-meeting/
LOCATION:Phoenix Shop\, 5904 Main St\, Mt. Jackson\, VA\, 22842\, United States
ATTACH;FMTTYPE=image/jpeg:https://woodturnersofthevirginias.org/wp-content/uploads/2023/12/weed2.jpg
END:VEVENT
BEGIN:VEVENT
DTSTART;TZID=UTC:20240120T090000
DTEND;TZID=UTC:20240120T120000
DTSTAMP:20260425T162714
CREATED:20231223T203201Z
LAST-MODIFIED:20231223T203254Z
UID:4774-1705741200-1705752000@woodturnersofthevirginias.org
SUMMARY:Skills Session - Making a weed pot
DESCRIPTION:Build on Peter Shoemaker’s demonstration to learn to make your own weed pot.  You will have hands on instruction to learn spindle turning and to fabricate your own weed pot.
URL:https://woodturnersofthevirginias.org/event/skills-session-making-a-weed-pot/
LOCATION:Phoenix Shop\, 5904 Main St\, Mt. Jackson\, VA\, 22842\, United States
ATTACH;FMTTYPE=image/jpeg:https://woodturnersofthevirginias.org/wp-content/uploads/2023/12/weed1.jpg
END:VEVENT
END:VCALENDAR