BEGIN:VCALENDAR
VERSION:2.0
PRODID:-//My Blog - ECPv6.15.14//NONSGML v1.0//EN
CALSCALE:GREGORIAN
METHOD:PUBLISH
X-ORIGINAL-URL:https://woodturnersofthevirginias.org
X-WR-CALDESC:Events for My Blog
REFRESH-INTERVAL;VALUE=DURATION:PT1H
X-Robots-Tag:noindex
X-PUBLISHED-TTL:PT1H
BEGIN:VTIMEZONE
TZID:UTC
BEGIN:STANDARD
TZOFFSETFROM:+0000
TZOFFSETTO:+0000
TZNAME:UTC
DTSTART:20230101T000000
END:STANDARD
END:VTIMEZONE
BEGIN:VEVENT
DTSTART;TZID=UTC:20240302T090000
DTEND;TZID=UTC:20240302T120000
DTSTAMP:20260425T162714
CREATED:20240123T183213Z
LAST-MODIFIED:20240123T183909Z
UID:4853-1709370000-1709380800@woodturnersofthevirginias.org
SUMMARY:March Meeting - Scott Schlosser
DESCRIPTION:Demonstration on turning Spin/Battle tops.  This will be in preparation for a competition at our yhearly picnic.
URL:https://woodturnersofthevirginias.org/event/march-meeting-scott-schlosser/
LOCATION:Phoenix Shop\, 5904 Main St\, Mt. Jackson\, VA\, 22842\, United States
END:VEVENT
BEGIN:VEVENT
DTSTART;TZID=UTC:20240316T090000
DTEND;TZID=UTC:20240316T120000
DTSTAMP:20260425T162714
CREATED:20240123T183412Z
LAST-MODIFIED:20240123T183842Z
UID:4856-1710579600-1710590400@woodturnersofthevirginias.org
SUMMARY:March Sills Session
DESCRIPTION:Try your skill at making a spin/battle tops
URL:https://woodturnersofthevirginias.org/event/march-sills-session/
LOCATION:Phoenix Shop\, 5904 Main St\, Mt. Jackson\, VA\, 22842\, United States
END:VEVENT
BEGIN:VEVENT
DTSTART;TZID=UTC:20240316T090000
DTEND;TZID=UTC:20240316T120000
DTSTAMP:20260425T162714
CREATED:20240305T133033Z
LAST-MODIFIED:20240305T134322Z
UID:4869-1710579600-1710590400@woodturnersofthevirginias.org
SUMMARY:March Meeting - Spin Tops/Battle Tops
DESCRIPTION:Scott Schlosser will demonstrate turning  Spin Tops/Battle Tops
URL:https://woodturnersofthevirginias.org/event/spin-tops-battle-tops/
LOCATION:Phoenix Shop\, 5904 Main St\, Mt. Jackson\, VA\, 22842\, United States
END:VEVENT
BEGIN:VEVENT
DTSTART;TZID=UTC:20240316T090000
DTEND;TZID=UTC:20240316T120000
DTSTAMP:20260425T162714
CREATED:20240305T133452Z
LAST-MODIFIED:20240305T133452Z
UID:4873-1710579600-1710590400@woodturnersofthevirginias.org
SUMMARY:Skill Session - Turn spin tops/battle tops
DESCRIPTION:Hands on session to turn Spin Tops/Battle Tops
URL:https://woodturnersofthevirginias.org/event/skill-session-turn-spin-tops-battle-tops/
LOCATION:Phoenix Shop\, 5904 Main St\, Mt. Jackson\, VA\, 22842\, United States
END:VEVENT
END:VCALENDAR